BEGIN:VCALENDAR
VERSION:2.0
PRODID:-//www.reachcny.org//NONSGML kigkonsult.se iCalcreator 2.30.10//
CALSCALE:GREGORIAN
METHOD:PUBLISH
UID:e854ae1d-2cc5-4117-a0e0-a50e7f719556
X-WR-CALDESC:Please join us for a FREE Community Baby Shower!\n\nWe are aga
 in partnering with many AMAZING community programs and organizations to ho
 st a fun\, interactive event designed for new and expecting parents and ca
 regivers living or residing in Oswego County.\n\nWhen it comes to having a
  baby\, there is so much to know- we are here to help!\n\nJoin us for:\n*I
 nteractive education stations\n*Community Resource Connection and Navigati
 on\n*Snacks and light refreshments (while supplies last)\n*FREE Raffles an
 d Prizes!\n*Baby Supplies and other give-a-way items!\n\nPre-register here
  using the link below and receive and extra raffle ticket!\nhttps://forms.
 office.com/r/mSXxSLH0Dc
X-WR-RELCALID:325a6b75e35ba48d5174aa33c14bb86c
X-WR-TIMEZONE:America/New_York
BEGIN:VTIMEZONE
TZID:America/New_York
BEGIN:STANDARD
TZNAME:EST
DTSTART:20251102T020000
TZOFFSETFROM:-0400
TZOFFSETTO:-0500
RDATE:20261101T020000
RDATE:20271107T020000
END:STANDARD
BEGIN:DAYLIGHT
TZNAME:EDT
DTSTART:20260308T020000
TZOFFSETFROM:-0500
TZOFFSETTO:-0400
RDATE:20270314T020000
END:DAYLIGHT
END:VTIMEZONE
BEGIN:VEVENT
UID:0c6edcc9-e6b5-46c1-a76d-b7e2b5da0b64
DTSTAMP:20260424T210055Z
DESCRIPTION:Please join us for a FREE Community Baby Shower!\n\nWe are agai
 n partnering with many AMAZING community programs and organizations to hos
 t a fun\, interactive event designed for new and expecting parents and car
 egivers living or residing in Oswego County.\n\nWhen it comes to having a 
 baby\, there is so much to know- we are here to help!\n\nJoin us for:\n*In
 teractive education stations\n*Community Resource Connection and Navigatio
 n\n*Snacks and light refreshments (while supplies last)\n*FREE Raffles and
  Prizes!\n*Baby Supplies and other give-a-way items!\n\nPre-register here 
 using the link below and receive and extra raffle ticket!\nhttps://forms.o
 ffice.com/r/mSXxSLH0Dc
DTSTART;TZID=America/New_York:20260515T110000
DTEND;TZID=America/New_York:20260515T140000
LOCATION:Elim Grace Church\, 340 W. 1st St.\, Oswego\, NY 13126 US
SUMMARY:Community Baby Shower 2026- Oswego County
END:VEVENT
END:VCALENDAR
